BEGIN:VCALENDAR
VERSION:2.0
PRODID:-//The Graduate Management Association of UWA - ECPv6.14.1//NONSGML v1.0//EN
CALSCALE:GREGORIAN
METHOD:PUBLISH
X-ORIGINAL-URL:https://gmauwa.com.au
X-WR-CALDESC:Events for The Graduate Management Association of UWA
REFRESH-INTERVAL;VALUE=DURATION:PT1H
X-Robots-Tag:noindex
X-PUBLISHED-TTL:PT1H
BEGIN:VTIMEZONE
TZID:Australia/Perth
BEGIN:STANDARD
TZOFFSETFROM:+0800
TZOFFSETTO:+0800
TZNAME:AWST
DTSTART:20210101T000000
END:STANDARD
END:VTIMEZONE
BEGIN:VEVENT
DTSTART;TZID=Australia/Perth:20220315T174500
DTEND;TZID=Australia/Perth:20220315T190000
DTSTAMP:20260420T201023
CREATED:20220304T030120Z
LAST-MODIFIED:20220314T094623Z
UID:2839-1647366300-1647370800@gmauwa.com.au
SUMMARY:GMA Masterclass - Bourby Webster -The competitive advantage of the arts in corporate centres.
DESCRIPTION:The UWA Business School and GMA of UWA are pleased to present our 2022 MBA Masterclass series. \nWe are pleased to advise that for the first time this Masterclass will be available both face to face and online. This will not only give our regional\, interstate and international members an opportunity to join us but will also support those currently impacted by Covid restrictions. \nBourby Webster is a violist\, entrepreneur\, educator\, presenter\, and producer. She is the founder\, Creative Director and Executive Producer of Perth Symphony Orchestra\, the orchestra that makes the rules and has a mission of ‘Music for Everyone’. \nBourby has a music degree from Oxford University\, is a graduate of the Royal College of Music\, has an MBA from UWA\, and has been a winner of a 40 Under 40 award for Entrepreneurs and a finalist in the Telstra Business Woman of the Year Awards. She was a founding member of the UK-based electric string quartet ‘bond’ signed to Decca Records. \nIn 2017 Bourby created the Arts Leaders Collective to support leaders of new arts companies and is passionate about supporting women in the arts. In 2019\, Bourby was named WA of the Year in the Arts and Culture category. \nIn this Masterclass\, Bourby will talk about “The competitive advantage of the arts in corporate centres”. \nOur Masterclass series is brought to you as part of our UWA MBA\, Life long learning commitment to our GMA members. \nRegistration is essential\, please RSVP below to attend. Links to join the masterclass will be sent to all registered attendees closer to the Masterclass date. \n 
URL:https://gmauwa.com.au/event/gma-masterclass-bourby-webster-the-competitive-advantage-of-the-arts-in-corporate-centres/
LOCATION:UWA Business School\, 8716 Hackett Drive\, Crawley\, WA\, 6009\, Australia
CATEGORIES:Masterclass,UWA Business School
END:VEVENT
BEGIN:VEVENT
DTSTART;TZID=Australia/Perth:20210619T090000
DTEND;TZID=Australia/Perth:20210619T110000
DTSTAMP:20260420T201023
CREATED:20210612T093206Z
LAST-MODIFIED:20210612T093206Z
UID:1677-1624093200-1624100400@gmauwa.com.au
SUMMARY:MBA & Graduate Certificate Information Session
DESCRIPTION:Know of anyone interested in studying an MBA? \nLet them know UWA’s next information session on Saturday 19 June\, 9am. \nDetails in the link below. Registrations now open.\nhttps://www.eventbrite.com.au/e/mba-graduate-certificate-information-session-tickets-154669313079?aff=GMA \n 
URL:https://gmauwa.com.au/event/mba-graduate-certificate-information-session/
LOCATION:UWA Business School\, 8716 Hackett Drive\, Crawley\, WA\, 6009\, Australia
CATEGORIES:UWA Business School
END:VEVENT
END:VCALENDAR